BEGIN:VCALENDAR
VERSION:2.0
PRODID:-//Ocean Odyssey - ECPv6.15.20//NONSGML v1.0//EN
CALSCALE:GREGORIAN
METHOD:PUBLISH
X-ORIGINAL-URL:https://ocean-odyssey.com
X-WR-CALDESC:Events for Ocean Odyssey
REFRESH-INTERVAL;VALUE=DURATION:PT1H
X-Robots-Tag:noindex
X-PUBLISHED-TTL:PT1H
BEGIN:VTIMEZONE
TZID:America/Los_Angeles
BEGIN:DAYLIGHT
TZOFFSETFROM:-0800
TZOFFSETTO:-0700
TZNAME:PDT
DTSTART:20150308T100000
END:DAYLIGHT
BEGIN:STANDARD
TZOFFSETFROM:-0700
TZOFFSETTO:-0800
TZNAME:PST
DTSTART:20151101T090000
END:STANDARD
BEGIN:DAYLIGHT
TZOFFSETFROM:-0800
TZOFFSETTO:-0700
TZNAME:PDT
DTSTART:20160313T100000
END:DAYLIGHT
BEGIN:STANDARD
TZOFFSETFROM:-0700
TZOFFSETTO:-0800
TZNAME:PST
DTSTART:20161106T090000
END:STANDARD
BEGIN:DAYLIGHT
TZOFFSETFROM:-0800
TZOFFSETTO:-0700
TZNAME:PDT
DTSTART:20170312T100000
END:DAYLIGHT
BEGIN:STANDARD
TZOFFSETFROM:-0700
TZOFFSETTO:-0800
TZNAME:PST
DTSTART:20171105T090000
END:STANDARD
BEGIN:DAYLIGHT
TZOFFSETFROM:-0800
TZOFFSETTO:-0700
TZNAME:PDT
DTSTART:20180311T100000
END:DAYLIGHT
BEGIN:STANDARD
TZOFFSETFROM:-0700
TZOFFSETTO:-0800
TZNAME:PST
DTSTART:20181104T090000
END:STANDARD
BEGIN:DAYLIGHT
TZOFFSETFROM:-0800
TZOFFSETTO:-0700
TZNAME:PDT
DTSTART:20190310T100000
END:DAYLIGHT
BEGIN:STANDARD
TZOFFSETFROM:-0700
TZOFFSETTO:-0800
TZNAME:PST
DTSTART:20191103T090000
END:STANDARD
END:VTIMEZONE
BEGIN:VEVENT
DTSTART;VALUE=DATE:20181201
DTEND;VALUE=DATE:20181203
DTSTAMP:20260421T073007
CREATED:20160212T192117Z
LAST-MODIFIED:20180524T200151Z
UID:254-1543622400-1543795199@ocean-odyssey.com
SUMMARY:Yachats Ladies Club Annual Christmas Bazaar
DESCRIPTION:Crafts made by Ladies Club members include knit items\, aprons\, quilts\, afghans\, wall hangings\, home decor\, table runners\, pot holders\, potato bakers\, casserole carriers\, bake sale table\, gift baskets and much more. Lunch on Saturday with famous Ladies Club Pies. Fundraiser for the Yachats Ladies Club. FMI Sandy Dunn\, (541) 547-3205. \nFriday Noon – 6 pm\nSaturday & Sunday 10 am – 3 pm (Luncheon on Saturday 11 am – 2 pm)
URL:https://ocean-odyssey.com/event/yachats-ladies-club-89th-annual-christmas-bazaar/
LOCATION:YLC Clubhouse\, 286 W 3rd St.\, Yachats\, OR\, 97498\, United States
CATEGORIES:Arts and Crafts,Social Gathering
END:VEVENT
BEGIN:VEVENT
DTSTART;TZID=America/Los_Angeles:20180909T090000
DTEND;TZID=America/Los_Angeles:20180909T140000
DTSTAMP:20260421T073007
CREATED:20180524T182309Z
LAST-MODIFIED:20180524T182323Z
UID:1132-1536483600-1536501600@ocean-odyssey.com
SUMMARY:Cruise The Coast - Cruise the Bay!
DESCRIPTION:Lincoln City’s seven-mile long main street comes alive with car shows\, music and a cruise scene from late August until the early September. Put an extra bit of polish on that sweet ride and meet us in Lincoln City. Come for the shows\, and then stay for all the fun activities around town. \nClassic Car Show\nSaturday\, September 9\, 2018\nCruisin’ the Bay\nThe Bay House Restaurant\nLive Music: To be announced.\n9am to 2pm\n5911 SW Hwy 101
URL:https://ocean-odyssey.com/event/cruise-the-coast-cruise-the-bay/
LOCATION:The Bay House Restaurant\, 5911 SW Hwy 101\, Lincoln City\, OR\, 97367\, United States
CATEGORIES:Social Gathering
END:VEVENT
BEGIN:VEVENT
DTSTART;TZID=America/Los_Angeles:20180902T073000
DTEND;TZID=America/Los_Angeles:20180902T110000
DTSTAMP:20260421T073007
CREATED:20160205T232836Z
LAST-MODIFIED:20180524T183327Z
UID:198-1535873400-1535886000@ocean-odyssey.com
SUMMARY:Yachats Lions Pancake Breakfast
DESCRIPTION:All you can eat pancakes with scrambled eggs\, choice of sausage or ham\, milk\, tea or coffee. Suggested donation $7. All proceeds go to support local nonprofit organizations. Sponsored by the Yachats Lions Club.
URL:https://ocean-odyssey.com/event/yachats-lions-pancake-breakfast-4/
LOCATION:Yachats Lions Hall\, 344 W 4 St\, Yachats\, OR\, 97498\, United States
CATEGORIES:Social Gathering
END:VEVENT
BEGIN:VEVENT
DTSTART;TZID=America/Los_Angeles:20180704T073000
DTEND;TZID=America/Los_Angeles:20180704T110000
DTSTAMP:20260421T073007
CREATED:20160205T210832Z
LAST-MODIFIED:20180504T203328Z
UID:183-1530689400-1530702000@ocean-odyssey.com
SUMMARY:Yachats Lions Pancake Breakfast
DESCRIPTION:All you can eat pancakes with scrambled eggs\, choice of sausage or ham\, milk\, tea or coffee. Suggested donation $7. All proceeds benefit local nonprofit organizations. Sponsored by the Yachats Lions Club.
URL:https://ocean-odyssey.com/event/yachats-lions-pancake-breakfast-3/
LOCATION:Yachats Lions Hall\, 344 W 4 St\, Yachats\, OR\, 97498\, United States
CATEGORIES:Social Gathering
END:VEVENT
BEGIN:VEVENT
DTSTART;TZID=America/Los_Angeles:20180527T073000
DTEND;TZID=America/Los_Angeles:20180527T110000
DTSTAMP:20260421T073007
CREATED:20180503T002027Z
LAST-MODIFIED:20180503T002547Z
UID:1109-1527406200-1527418800@ocean-odyssey.com
SUMMARY:Yachats Lions Pancake Breakfast
DESCRIPTION:All you can eat pancakes with scrambled eggs\, choice of sausage or ham\, milk\, tea or coffee. Suggested donation $7. All proceeds go to support local nonprofit organizations. Sponsored by the Yachats Lions Club.
URL:https://ocean-odyssey.com/event/yachats-lions-pancake-breakfast-5/
LOCATION:Yachats Lions Hall\, W 4th St & Pontiac\, Yachats\, OR\, 97498\, United States
CATEGORIES:Social Gathering
END:VEVENT
BEGIN:VEVENT
DTSTART;TZID=America/Los_Angeles:20180519T090000
DTEND;TZID=America/Los_Angeles:20180519T140000
DTSTAMP:20260421T073007
CREATED:20160201T232739Z
LAST-MODIFIED:20180504T184827Z
UID:165-1526720400-1526738400@ocean-odyssey.com
SUMMARY:Plant Sale & Garden Fair
DESCRIPTION:The Lincoln County Master Gardeners’ annual plant sale and garden fair will be hed at the Lincoln County Fairgrounds in the Harney Building. This is a huge plant sale that includes vegetables\, herbs\, succulents\, ornamentals and native plants. Most plants grown by Lincoln County Master Gardeners. Plants sell out quickly\, so be sure to come early!
URL:https://ocean-odyssey.com/event/plant-sale-garden-fair/
LOCATION:Lincoln County Fairgrounds\,  633 NE 3rd St\, Newport\, OR\, 97365\, United States
CATEGORIES:Social Gathering
END:VEVENT
BEGIN:VEVENT
DTSTART;TZID=America/Los_Angeles:20180331T100000
DTEND;TZID=America/Los_Angeles:20180331T130000
DTSTAMP:20260421T073007
CREATED:20170207T193345Z
LAST-MODIFIED:20180323T161353Z
UID:805-1522490400-1522501200@ocean-odyssey.com
SUMMARY:Annual Easter Egg Hunt
DESCRIPTION:Bring your children and join us for prizes and Easter Egg Baskets! All are welcome.
URL:https://ocean-odyssey.com/event/annual-easter-egg-hunt-2/
LOCATION:Yachats Community Presbyterian Church\, 360 W 7th St\, Yachats\, OR\, 97498\, United States
CATEGORIES:Social Gathering
END:VEVENT
BEGIN:VEVENT
DTSTART;TZID=America/Los_Angeles:20170819T080000
DTEND;TZID=America/Los_Angeles:20170819T170000
DTSTAMP:20260421T073007
CREATED:20170207T204023Z
LAST-MODIFIED:20170207T204023Z
UID:834-1503129600-1503162000@ocean-odyssey.com
SUMMARY:Yachats River Valley Farm Tour
DESCRIPTION:The Yachats River Valley Farm Tour is Free and open to the public. Meet “up the river folks” who are using their land to raise anything from llamas to edible flowers. Visit up to seven farms\, survey the operations and purchase locally produced products\, including honey\, vegetables\, herbs and more.
URL:https://ocean-odyssey.com/event/yachats-river-valley-farm-tour/
LOCATION:River Road Area\, 8 N Yachats River Rd\, Yachats\, OR\, 97498\, United States
CATEGORIES:Outdoors,Social Gathering
END:VEVENT
BEGIN:VEVENT
DTSTART;VALUE=DATE:20170310
DTEND;VALUE=DATE:20170313
DTSTAMP:20260421T073007
CREATED:20170207T211111Z
LAST-MODIFIED:20170207T211111Z
UID:846-1489104000-1489363199@ocean-odyssey.com
SUMMARY:Gems of the Ocean Arts Quilt Show
DESCRIPTION:This juried show will accept art pieces from local\, regional\,  and international art quilters.  The theme of this inaugural  show will be  Gems of the Ocean.
URL:https://ocean-odyssey.com/event/gems-ocean-arts-quilt-show/
LOCATION:OR
CATEGORIES:Arts and Crafts,Social Gathering
END:VEVENT
BEGIN:VEVENT
DTSTART;TZID=America/Los_Angeles:20161217T160000
DTEND;TZID=America/Los_Angeles:20161218T190000
DTSTAMP:20260421T073007
CREATED:20160212T194121Z
LAST-MODIFIED:20160212T194121Z
UID:261-1481990400-1482087600@ocean-odyssey.com
SUMMARY:21st Annual Heceta Head Lightstation Victorian Christmas Open House
DESCRIPTION:Come one\, come all to Heceta Head Lightstation’s Victorian Christmas Open House! \nDecember 2015’s 20th Anniversary was magical! \nVisit us in 2016 to create more family memories: \nDoors will open to the public from 4-7 pm \nDecember 10th and 12th & 17th and 18th \nEnjoy the majesty of the beautifully decorated Keeper’s House! Each evening local musicians will perform your holiday favorites while local sponsors provide warm drinks and goodies! Santa Claus will also make a special appearance each evening. \nShuttle service from the state park below will be available. There is a $5 day use fee required for parking\, admission to Keepers House is free. \nHeceta Head Lightstation Gift Shop will be open for those last minute gifts and why not treat yourself too while you are there!
URL:https://ocean-odyssey.com/event/21st-annual-heceta-head-lightstation-victorian-christmas-open-house-2/
LOCATION:Heceta Head Lightstation\, 92072 US-101\, Yachats\, OR\, 97498 \, United States
CATEGORIES:Social Gathering
END:VEVENT
BEGIN:VEVENT
DTSTART;TZID=America/Los_Angeles:20161210T160000
DTEND;TZID=America/Los_Angeles:20161211T190000
DTSTAMP:20260421T073007
CREATED:20160212T193217Z
LAST-MODIFIED:20160212T193217Z
UID:258-1481385600-1481482800@ocean-odyssey.com
SUMMARY:21st Annual Heceta Head Lightstation Victorian Christmas Open House
DESCRIPTION:Come one\, come all to Heceta Head Lightstation’s Victorian Christmas Open House! \nDecember 2015’s 20th Anniversary was magical! \nVisit us in 2016 to create more family memories: \nDoors will open to the public from 4-7 pm \nDecember 10th and 12th & 17th and 18th \nEnjoy the majesty of the beautifully decorated Keeper’s House! Each evening local musicians will perform your holiday favorites while local sponsors provide warm drinks and goodies! Santa Claus will also make a special appearance each evening. \nShuttle service from the state park below will be available. There is a $5 day use fee required for parking\, admission to Keepers House is free. \nHeceta Head Lightstation Gift Shop will be open for those last minute gifts and why not treat yourself too while you are there!
URL:https://ocean-odyssey.com/event/21st-annual-heceta-head-lightstation-victorian-christmas-open-house/
LOCATION:Heceta Head Lightstation\, 92072 US-101\, Yachats\, OR\, 97498 \, United States
CATEGORIES:Social Gathering
END:VEVENT
BEGIN:VEVENT
DTSTART;TZID=America/Los_Angeles:20161203T090000
DTEND;TZID=America/Los_Angeles:20161203T110000
DTSTAMP:20260421T073007
CREATED:20160212T192318Z
LAST-MODIFIED:20160212T192318Z
UID:256-1480755600-1480762800@ocean-odyssey.com
SUMMARY:Breakfast with Santa
DESCRIPTION:Santa comes to the Lions Hall with a ho ho ho and twinkle in his eye to see who’s been naughty or nice. Breakfast includes all you can eat pancakes\, scrambled eggs\, choice of ham or sausage\, milk\, tea\, or coffee. Bring the entire family and join the fun. Crafts and presents for kids\, photos with Santa and more! Tickets at the door: $7 Individuals / $15 Families. Sponsored by Yachats Lions Club and Yachats Youth & Family Activities Program YYFAP.
URL:https://ocean-odyssey.com/event/breakfast-with-santa/
LOCATION:Yachats Lions Hall\, 344 W 4 St\, Yachats\, OR\, 97498\, United States
CATEGORIES:Social Gathering
END:VEVENT
BEGIN:VEVENT
DTSTART;TZID=America/Los_Angeles:20161002T150000
DTEND;TZID=America/Los_Angeles:20161002T160000
DTSTAMP:20260421T073007
CREATED:20160212T191407Z
LAST-MODIFIED:20160212T191407Z
UID:251-1475420400-1475424000@ocean-odyssey.com
SUMMARY:Blessing of the Animals
DESCRIPTION:Bring your animals\, large and small! This annual blessing is presided over by the Rev. Mary Crook and is sponsored by the Little Log Church.
URL:https://ocean-odyssey.com/event/blessing-of-the-animals/
LOCATION:Little Log Church & Museum\, 328 West Third Street\, Yachats \, OR\, 97498\, United States
CATEGORIES:Social Gathering
END:VEVENT
BEGIN:VEVENT
DTSTART;TZID=America/Los_Angeles:20160716T123000
DTEND;TZID=America/Los_Angeles:20160716T160000
DTSTAMP:20260421T073007
CREATED:20160205T211305Z
LAST-MODIFIED:20160205T211305Z
UID:185-1468672200-1468684800@ocean-odyssey.com
SUMMARY:Triple Play/Yachats Smelt Baseball
DESCRIPTION:Informal\, noncompetitive\, community baseball. No outs\, batters keep swinging until they hit the ball; pitchers help the batters. Everyone gets to play regardless of age\, gender\, or skill level. Gloves on loan if you don’t have one. Bats and balls provided. Concession stand in the picnic shelter. Donations benefit Yachats Youth and Family Activities Program YYFAP. Sponsored by the City of Yachats.
URL:https://ocean-odyssey.com/event/triple-playyachats-smelt-baseball/
LOCATION:Yachats Commons\, 441 Hwy 101\, Yachats\, OR\, 97498\, United States
CATEGORIES:Social Gathering
END:VEVENT
BEGIN:VEVENT
DTSTART;TZID=America/Los_Angeles:20160529T073000
DTEND;TZID=America/Los_Angeles:20160529T113000
DTSTAMP:20260421T073007
CREATED:20160201T233740Z
LAST-MODIFIED:20160205T210632Z
UID:167-1464507000-1464521400@ocean-odyssey.com
SUMMARY:Yachats Lions Pancake Breakfast
DESCRIPTION:All you can eat pancakes with scrambled eggs\, choice of sausage or ham\, milk\, tea or coffee. Suggested donation $7. All proceeds go to support local nonprofit organizations. Sponsored by the Yachats Lions Club.
URL:https://ocean-odyssey.com/event/yachats-lions-pancake-breakfast-2/
LOCATION:Yachats Lions Hall\, 344 W 4 St\, Yachats\, OR\, 97498\, United States
CATEGORIES:Social Gathering
END:VEVENT
BEGIN:VEVENT
DTSTART;TZID=America/Los_Angeles:20160320T073000
DTEND;TZID=America/Los_Angeles:20160320T113000
DTSTAMP:20260421T073007
CREATED:20160201T203736Z
LAST-MODIFIED:20160205T210558Z
UID:138-1458459000-1458473400@ocean-odyssey.com
SUMMARY:Yachats Lions Pancake Breakfast
DESCRIPTION:All you can eat pancakes with scrambled eggs\, choice of sausage or ham\, milk\, tea or coffee. Bring the entire family and join the fun. Suggested donation $7. All proceeds go to support local nonprofit organizations.
URL:https://ocean-odyssey.com/event/yachats-lions-pancake-breakfast/
LOCATION:Yachats Lions Hall\, 344 W 4 St\, Yachats\, OR\, 97498\, United States
CATEGORIES:Social Gathering
END:VEVENT
END:VCALENDAR