BEGIN:VCALENDAR
VERSION:2.0
PRODID:-//Ocean Odyssey - ECPv6.15.20//NONSGML v1.0//EN
CALSCALE:GREGORIAN
METHOD:PUBLISH
X-ORIGINAL-URL:https://ocean-odyssey.com
X-WR-CALDESC:Events for Ocean Odyssey
REFRESH-INTERVAL;VALUE=DURATION:PT1H
X-Robots-Tag:noindex
X-PUBLISHED-TTL:PT1H
BEGIN:VTIMEZONE
TZID:America/Los_Angeles
BEGIN:DAYLIGHT
TZOFFSETFROM:-0800
TZOFFSETTO:-0700
TZNAME:PDT
DTSTART:20150308T100000
END:DAYLIGHT
BEGIN:STANDARD
TZOFFSETFROM:-0700
TZOFFSETTO:-0800
TZNAME:PST
DTSTART:20151101T090000
END:STANDARD
BEGIN:DAYLIGHT
TZOFFSETFROM:-0800
TZOFFSETTO:-0700
TZNAME:PDT
DTSTART:20160313T100000
END:DAYLIGHT
BEGIN:STANDARD
TZOFFSETFROM:-0700
TZOFFSETTO:-0800
TZNAME:PST
DTSTART:20161106T090000
END:STANDARD
BEGIN:DAYLIGHT
TZOFFSETFROM:-0800
TZOFFSETTO:-0700
TZNAME:PDT
DTSTART:20170312T100000
END:DAYLIGHT
BEGIN:STANDARD
TZOFFSETFROM:-0700
TZOFFSETTO:-0800
TZNAME:PST
DTSTART:20171105T090000
END:STANDARD
BEGIN:DAYLIGHT
TZOFFSETFROM:-0800
TZOFFSETTO:-0700
TZNAME:PDT
DTSTART:20180311T100000
END:DAYLIGHT
BEGIN:STANDARD
TZOFFSETFROM:-0700
TZOFFSETTO:-0800
TZNAME:PST
DTSTART:20181104T090000
END:STANDARD
BEGIN:DAYLIGHT
TZOFFSETFROM:-0800
TZOFFSETTO:-0700
TZNAME:PDT
DTSTART:20190310T100000
END:DAYLIGHT
BEGIN:STANDARD
TZOFFSETFROM:-0700
TZOFFSETTO:-0800
TZNAME:PST
DTSTART:20191103T090000
END:STANDARD
END:VTIMEZONE
BEGIN:VEVENT
DTSTART;TZID=America/Los_Angeles:20180506T140000
DTEND;TZID=America/Los_Angeles:20180506T150000
DTSTAMP:20260421T030726
CREATED:20160201T231017Z
LAST-MODIFIED:20180323T162003Z
UID:159-1525615200-1525618800@ocean-odyssey.com
SUMMARY:Oregon Coast Chamber Orchestra Spring Concert
DESCRIPTION:All tickets are $10 for adults\, (children and students free). Tickets are not specific to any one concert\, but good at any of the three performances. All tickets are available at the door. See you there!
URL:https://ocean-odyssey.com/event/oregon-coast-chamber-orchestra-spring-concert-2/
LOCATION:Florence Community Baptist Church\, 4590 HWY 101\, Florence\, OR\, United States
CATEGORIES:Music
END:VEVENT
BEGIN:VEVENT
DTSTART;TZID=America/Los_Angeles:20180504T190000
DTEND;TZID=America/Los_Angeles:20180504T200000
DTSTAMP:20260421T030726
CREATED:20160201T211353Z
LAST-MODIFIED:20180323T162041Z
UID:153-1525460400-1525464000@ocean-odyssey.com
SUMMARY:Oregon Coast Chamber Orchestra Spring Concert
DESCRIPTION:All tickets are $10 for adults\, (children and students free). Tickets are not specific to any one concert\, but good at any of the three performances. All tickets are available at the door. See you there!
URL:https://ocean-odyssey.com/event/oregon-coast-chamber-orchestra-spring-concert/
LOCATION:Yachats Community Presbyterian Church\, 360 W 7th St\, Yachats\, OR\, 97498\, United States
CATEGORIES:Music
END:VEVENT
BEGIN:VEVENT
DTSTART;VALUE=DATE:20180427
DTEND;VALUE=DATE:20180430
DTSTAMP:20260421T030726
CREATED:20160201T211741Z
LAST-MODIFIED:20180323T162200Z
UID:154-1524787200-1525046399@ocean-odyssey.com
SUMMARY:Rainspout: Yachats\, Oregon Music Festival
DESCRIPTION:Rainspout offers a diverse\, exciting\, eclectic collection of world class musical acts\, workshops \, dining\, dancing\, hosted jam sessions\, and more. \nSpend a wonderful music-filled weekend in the coastal village travel guru Arthur Frommer named as one of his ten favorite travel destinations in the world!
URL:https://ocean-odyssey.com/event/rainspout-yachats-oregon-music-festival/
LOCATION:Yachats Commons\, 441 Hwy 101\, Yachats\, OR\, 97498\, United States
CATEGORIES:Music
END:VEVENT
BEGIN:VEVENT
DTSTART;VALUE=DATE:20171006
DTEND;VALUE=DATE:20171009
DTSTAMP:20260421T030726
CREATED:20170207T213247Z
LAST-MODIFIED:20170207T213600Z
UID:859-1507248000-1507507199@ocean-odyssey.com
SUMMARY:Oregon Coast Jazz Party
DESCRIPTION:The Oregon Coast Council for the Arts celebrates 14 years with the Oregon Coast Jazz Party October 6-8\, 2017 at the Newport Performing Arts Center and at the Shilo Inn Suites Hotel\, both in Newport.
URL:https://ocean-odyssey.com/event/oregon-coast-jazz-party/
LOCATION:Newport Shilo Inns and Suites\, 536 SW Elizabeth St\, Newport\, OR\,  97365\, United States
CATEGORIES:Music
END:VEVENT
BEGIN:VEVENT
DTSTART;VALUE=DATE:20170707
DTEND;VALUE=DATE:20170710
DTSTAMP:20260421T030726
CREATED:20170207T202239Z
LAST-MODIFIED:20170207T202239Z
UID:826-1499385600-1499644799@ocean-odyssey.com
SUMMARY:Yachats Music Festival
DESCRIPTION:Four Seasons Arts’ Yachats Music Festival stands apart in its fusion of artist and audience with the splendors of nature in this Oregon coast phenomenon. Join 20-25 artists in four days of magnificent music making\, friendly sharing and the wondrous mystery that is the Yachats Music Festival experience. \nThe Yachats Music Festival began in 1981 and the 2017 Festival will be its ‘Grand Finale.’ Come and participate in the celebration of a vision realized \nConcerts: \nFriday\, July 7 – 8:00 pm\nSaturday\, July 8 – 8:00 pm\nSunday\, July 9 – 2:00 pm\nSunday\, July 9 – 8:00 pm
URL:https://ocean-odyssey.com/event/yachats-music-festival/
LOCATION:Yachats Community Presbyterian Church\, 360 W 7th St\, Yachats\, OR\, 97498\, United States
CATEGORIES:Music
END:VEVENT
BEGIN:VEVENT
DTSTART;VALUE=DATE:20170621
DTEND;VALUE=DATE:20170705
DTSTAMP:20260421T030726
CREATED:20170207T200159Z
LAST-MODIFIED:20170207T200159Z
UID:813-1498003200-1499212799@ocean-odyssey.com
SUMMARY:The Siletz Bay Music Festival
DESCRIPTION:The Siletz Bay Music Festival is two weeks of live musical performances and community outreach programs featuring internationally renowned musicians.
URL:https://ocean-odyssey.com/event/siletz-bay-music-festival/
LOCATION:Lincoln City\, Lincoln City\, OR\, 97367\, United States
CATEGORIES:Festival,Music
END:VEVENT
BEGIN:VEVENT
DTSTART;TZID=America/Los_Angeles:20170514T140000
DTEND;TZID=America/Los_Angeles:20170514T160000
DTSTAMP:20260421T030726
CREATED:20170207T211937Z
LAST-MODIFIED:20170207T211937Z
UID:853-1494770400-1494777600@ocean-odyssey.com
SUMMARY:Oregon Coast Chamber Orchestra Concert
DESCRIPTION:Presenting six or more concerts each season from Reedsport to Yachats\, the orchestra is composed mainly of coastal residents and musicians from the Eugene area. In addition to the classics\, the Orchestra has performed pop\, jazz\, opera\, modern and even rock pieces. A considerable amount of original music has been written and played by members of the orchestra.
URL:https://ocean-odyssey.com/event/oregon-coast-chamber-orchestra-concert-2/
LOCATION:OR
CATEGORIES:Music
END:VEVENT
BEGIN:VEVENT
DTSTART;TZID=America/Los_Angeles:20170512T190000
DTEND;TZID=America/Los_Angeles:20170512T210000
DTSTAMP:20260421T030726
CREATED:20170207T211747Z
LAST-MODIFIED:20170207T211747Z
UID:851-1494615600-1494622800@ocean-odyssey.com
SUMMARY:Oregon Coast Chamber Orchestra Concert
DESCRIPTION:Presenting six or more concerts each season from Reedsport to Yachats\, the orchestra is composed mainly of coastal residents and musicians from the Eugene area. In addition to the classics\, the Orchestra has performed pop\, jazz\, opera\, modern and even rock pieces. A considerable amount of original music has been written and played by members of the orchestra.
URL:https://ocean-odyssey.com/event/oregon-coast-chamber-orchestra-concert/
LOCATION:Yachats Community Presbyterian Church\, 360 W 7th St\, Yachats\, OR\, 97498\, United States
CATEGORIES:Music
END:VEVENT
BEGIN:VEVENT
DTSTART;TZID=America/Los_Angeles:20161210T140000
DTEND;TZID=America/Los_Angeles:20161210T160000
DTSTAMP:20260421T030726
CREATED:20160212T192556Z
LAST-MODIFIED:20160212T192556Z
UID:257-1481378400-1481385600@ocean-odyssey.com
SUMMARY:Pacific Wind Ensemble
DESCRIPTION:This is an annual concert of the Pacific Wind Ensemble. Admission is $5. Contributions to Lincoln County Food Share are welcome.
URL:https://ocean-odyssey.com/event/pacific-wind-ensemble/
LOCATION:Yachats Commons\, 441 Hwy 101\, Yachats\, OR\, 97498\, United States
CATEGORIES:Music
END:VEVENT
BEGIN:VEVENT
DTSTART;TZID=America/Los_Angeles:20160423T140000
DTEND;TZID=America/Los_Angeles:20160423T160000
DTSTAMP:20260421T030726
CREATED:20160201T211130Z
LAST-MODIFIED:20160201T211130Z
UID:152-1461420000-1461427200@ocean-odyssey.com
SUMMARY:“Sentimental Journey” – The Emerald City Jazz Kings in Florence
DESCRIPTION:Our final installment in this three-part series will examine the last four years of the Swing Era\, 1943 thru ’46. Expect even more hits from the likes of Benny Goodman\, Duke Ellington\, Jimmy Dorsey\, Harry James\, and Bing Crosby. In addition to those\, our show will also include songs from Judy Garland\, Les Brown\, Doris Day\, Tommy Dorsey\, Peggy Lee\, and Nat King Cole. Here are a few of the songs you should look forward to hearing: “Why Don’t You Do Right?”\, “Leap Frog”\, “Perdido”\, “I’ve Heard That Song Before”\, “I Had the Craziest Dream”\, “Don’t Get Around Much Anymore”\, “Zing! Went the Strings of My Heart”\, “Besame Mucho”\, “You’ll Never Know”\, “Sentimental Journey\, “On the Atchison\, Topeka & the Santa Fe”\, “Opus One”\, and “Aren’t You Glad You’re You?” among many others.
URL:https://ocean-odyssey.com/event/sentimental-journey-the-emerald-city-jazz-kings-in-florence/
LOCATION:Florence Events Center\, 715 Quince St\, Florence\, OR\, 97439\, United States
CATEGORIES:Music
END:VEVENT
BEGIN:VEVENT
DTSTART;TZID=America/Los_Angeles:20160407T200000
DTEND;TZID=America/Los_Angeles:20160407T210000
DTSTAMP:20260421T030726
CREATED:20160201T210118Z
LAST-MODIFIED:20160212T193925Z
UID:148-1460059200-1460062800@ocean-odyssey.com
SUMMARY:Shuffle Concert – SEA Entertainment
DESCRIPTION:A modern day ensemble that delivers the unexpected. Inspiring and energetic\, New York-based chamber music ensemble SHUFFLE Concert changes the rules of performance as we know it. \n 
URL:https://ocean-odyssey.com/event/shuffle-concert-sea-entertainment/
LOCATION:Florence Events Center\, 715 Quince St\, Florence\, OR\, 97439\, United States
CATEGORIES:Music
END:VEVENT
BEGIN:VEVENT
DTSTART;TZID=America/Los_Angeles:20160318T190000
DTEND;TZID=America/Los_Angeles:20160318T210000
DTSTAMP:20260421T030726
CREATED:20160201T202258Z
LAST-MODIFIED:20160201T204443Z
UID:131-1458327600-1458334800@ocean-odyssey.com
SUMMARY:Glenn Miller Orchestra – SEA Entertainment
DESCRIPTION:Get your dancing shoes ready! One of most popular and sought after big bands in the world today\, the Glenn Miller Orchestra is considered to be one of the greatest bands of all time. The current GMO started in 1956 and has been touring ever since. SEA opens the dance floor so you can really enjoy this cabaret-style concert and experience big band music the way it was intended!
URL:https://ocean-odyssey.com/event/glenn-miller-orchestra-sea-entertainment/
LOCATION:Florence Events Center\, 715 Quince St\, Florence\, OR\, 97439\, United States
CATEGORIES:Music
END:VEVENT
BEGIN:VEVENT
DTSTART;TZID=America/Los_Angeles:20160220T190000
DTEND;TZID=America/Los_Angeles:20160220T210000
DTSTAMP:20260421T030726
CREATED:20160201T201345Z
LAST-MODIFIED:20160201T201345Z
UID:126-1455994800-1456002000@ocean-odyssey.com
SUMMARY:Newport Symphony Orchestra: Battle of Batons II
DESCRIPTION:Come to the Battle of Batons II\, the outrageous musical event in which area high schools students compete by conducting the Newport Symphony Orchestra to win the title of Grand Baton Winner and the amazing trophy that accompanies it! \nThe 2016 Battle of Batons\, presented by David Ogden Stiers\, will happen on Feb. 20\, 2016 at 7 pm\, at the PAC. Six combatants (young people competing) will conduct the Newport Symphony to win the trophy and title. This is a fundraiser for the NSO Endowment and is done “tongue in check”\, except for the music. Each combatant is presented by local celebs with costume and comedy. Bribes are welcome for our judges (which will go to the fund) who will make the final selection of the winner. \nThis event was begun in 2014 with a very successful evening of entertainment and fun. It is done every other year and sponsorship is greatly encouraged and applauded from local businesses as well as corporate businesses. \nCome and have a wonderful time!
URL:https://ocean-odyssey.com/event/newport-symphony-orchestra-battle-of-batons-ii/
LOCATION:Newport Performing Arts Center\, 777 W. Olive Street\, Newport\, OR\, 97365\, United States
CATEGORIES:Music
END:VEVENT
BEGIN:VEVENT
DTSTART;TZID=America/Los_Angeles:20160220T190000
DTEND;TZID=America/Los_Angeles:20160220T210000
DTSTAMP:20260421T030726
CREATED:20160201T195533Z
LAST-MODIFIED:20160201T195944Z
UID:110-1455994800-1456002000@ocean-odyssey.com
SUMMARY:Ballet Fantastique: Dragon and the Night Queen
DESCRIPTION:On February 20\, 2016\, Ballet Fantastique brings the premiere of Dragon and the Night Queen: Celtic Stories\, which forges a new and dramatic retelling of ancient Irish legends in a vivid exploration of choreography and dance filled with riotous spirit. Violinist Cullen Vance and the Gerry Rempel Ensemble  provide the exuberant live accompaniment. Presented by SEACoast Entertainment.
URL:https://ocean-odyssey.com/event/ballet-fantastique-dragon-and-the-night-queen/
LOCATION:Florence Events Center\, 715 Quince St\, Florence\, OR\, 97439\, United States
CATEGORIES:Music
END:VEVENT
END:VCALENDAR