BEGIN:VCALENDAR
VERSION:2.0
PRODID:-//Ocean Odyssey - ECPv6.15.20//NONSGML v1.0//EN
CALSCALE:GREGORIAN
METHOD:PUBLISH
X-ORIGINAL-URL:https://ocean-odyssey.com
X-WR-CALDESC:Events for Ocean Odyssey
REFRESH-INTERVAL;VALUE=DURATION:PT1H
X-Robots-Tag:noindex
X-PUBLISHED-TTL:PT1H
BEGIN:VTIMEZONE
TZID:America/Los_Angeles
BEGIN:DAYLIGHT
TZOFFSETFROM:-0800
TZOFFSETTO:-0700
TZNAME:PDT
DTSTART:20150308T100000
END:DAYLIGHT
BEGIN:STANDARD
TZOFFSETFROM:-0700
TZOFFSETTO:-0800
TZNAME:PST
DTSTART:20151101T090000
END:STANDARD
BEGIN:DAYLIGHT
TZOFFSETFROM:-0800
TZOFFSETTO:-0700
TZNAME:PDT
DTSTART:20160313T100000
END:DAYLIGHT
BEGIN:STANDARD
TZOFFSETFROM:-0700
TZOFFSETTO:-0800
TZNAME:PST
DTSTART:20161106T090000
END:STANDARD
BEGIN:DAYLIGHT
TZOFFSETFROM:-0800
TZOFFSETTO:-0700
TZNAME:PDT
DTSTART:20170312T100000
END:DAYLIGHT
BEGIN:STANDARD
TZOFFSETFROM:-0700
TZOFFSETTO:-0800
TZNAME:PST
DTSTART:20171105T090000
END:STANDARD
BEGIN:DAYLIGHT
TZOFFSETFROM:-0800
TZOFFSETTO:-0700
TZNAME:PDT
DTSTART:20180311T100000
END:DAYLIGHT
BEGIN:STANDARD
TZOFFSETFROM:-0700
TZOFFSETTO:-0800
TZNAME:PST
DTSTART:20181104T090000
END:STANDARD
END:VTIMEZONE
BEGIN:VEVENT
DTSTART;TZID=America/Los_Angeles:20170703T190000
DTEND;TZID=America/Los_Angeles:20170703T210000
DTSTAMP:20260421T094511
CREATED:20170207T201645Z
LAST-MODIFIED:20170207T201710Z
UID:822-1499108400-1499115600@ocean-odyssey.com
SUMMARY:Fireworks in Waldport
DESCRIPTION:Enjoy a fabulous display of fireworks over Alsea Bay beginning at dusk. You’ll find plenty of sandy beach to enjoy the view. Park at Patterson State Park or park in Waldport to view the festivities from the Historic Alsea Bay Bridge Interpretive Center or along Keady Wayside. Arrive early and build a sand castle\, catch Dungeness crab in Alsea Bay\, search for sand dollars along miles of sandy beach\, toast marshmallows over a bonfire\, ride a green bike and then\, by all means enjoy the fireworks!
URL:https://ocean-odyssey.com/event/fireworks-in-waldport-2/
LOCATION:Alsea Bay\, Waldport\, OR\, United States
CATEGORIES:Festival
END:VEVENT
BEGIN:VEVENT
DTSTART;VALUE=DATE:20170621
DTEND;VALUE=DATE:20170705
DTSTAMP:20260421T094511
CREATED:20170207T200159Z
LAST-MODIFIED:20170207T200159Z
UID:813-1498003200-1499212799@ocean-odyssey.com
SUMMARY:The Siletz Bay Music Festival
DESCRIPTION:The Siletz Bay Music Festival is two weeks of live musical performances and community outreach programs featuring internationally renowned musicians.
URL:https://ocean-odyssey.com/event/siletz-bay-music-festival/
LOCATION:Lincoln City\, Lincoln City\, OR\, 97367\, United States
CATEGORIES:Festival,Music
END:VEVENT
BEGIN:VEVENT
DTSTART;VALUE=DATE:20170519
DTEND;VALUE=DATE:20170522
DTSTAMP:20260421T094511
CREATED:20170207T212505Z
LAST-MODIFIED:20170207T212505Z
UID:855-1495152000-1495411199@ocean-odyssey.com
SUMMARY:Florence Rhododendron Festival
DESCRIPTION:Come join us for a weekend of fun! Our Rhododendrons\, that thrive along the Oregon Coast\, are of course the stars of the Festival and we celebrate their beauty! The spectacular display of hundreds of Rhododendrons takes place at the Florence Events Center.
URL:https://ocean-odyssey.com/event/florence-rhododendron-festival/
LOCATION:Florence Events Center\, 715 Quince St\, Florence\, OR\, 97439\, United States
CATEGORIES:Festival
END:VEVENT
BEGIN:VEVENT
DTSTART;VALUE=DATE:20170331
DTEND;VALUE=DATE:20170402
DTSTAMP:20260421T094511
CREATED:20170207T211334Z
LAST-MODIFIED:20170207T211334Z
UID:848-1490918400-1491091199@ocean-odyssey.com
SUMMARY:Florence Fest
DESCRIPTION:A showcase of carefully selected Oregon boutique wineries along with regional fine art\, food and live jazz. This upscale two-day festival is being produced by Coast Radio in cooperation with the Florence Area Chamber of Commerce and the central coast art community.
URL:https://ocean-odyssey.com/event/florence-fest/
LOCATION:Florence Fest\,  715 Quince St \, Florence\, Oregon\, 97439 
CATEGORIES:Festival
END:VEVENT
BEGIN:VEVENT
DTSTART;VALUE=DATE:20170223
DTEND;VALUE=DATE:20170227
DTSTAMP:20260421T094511
CREATED:20170207T185943Z
LAST-MODIFIED:20170207T185943Z
UID:782-1487808000-1488153599@ocean-odyssey.com
SUMMARY:Newport Seafood and Wine Festival
DESCRIPTION:It wouldn’t be winter on the coast without the Newport Seafood & Wine Festival. Showcasing over 150 premier Northwest wines\, culinary professionals and regional artisans\, the Newport Seafood & Wine Festival draws nearly 25\,000 visitors each year.
URL:https://ocean-odyssey.com/event/newport-seafood-wine-festival/
LOCATION:Newport\, Various Locations\, Newport\, OR\, 97365\, United States
CATEGORIES:Festival
END:VEVENT
BEGIN:VEVENT
DTSTART;TZID=America/Los_Angeles:20170211T100000
DTEND;TZID=America/Los_Angeles:20170211T160000
DTSTAMP:20260421T094511
CREATED:20170207T190849Z
LAST-MODIFIED:20170207T191006Z
UID:787-1486807200-1486828800@ocean-odyssey.com
SUMMARY:Fossil Fest
DESCRIPTION:Beachcombers and rock hounds won’t want to miss this annual event!  See fossil exhibits\, unique displays from the North American Research Group (NARG)\, have your beach finds identified\, and join us for special presentations by Oregon experts!
URL:https://ocean-odyssey.com/event/fossil-fest-2/
LOCATION:Hatfield Marine Science Center\, 2030 SE Marine Science Dr Newport\, Newport\, OR\, 97365\, United States
CATEGORIES:Festival
END:VEVENT
BEGIN:VEVENT
DTSTART;VALUE=DATE:20170211
DTEND;VALUE=DATE:20170221
DTSTAMP:20260421T094511
CREATED:20170207T185457Z
LAST-MODIFIED:20170207T185457Z
UID:779-1486771200-1487635199@ocean-odyssey.com
SUMMARY:Antique Week
DESCRIPTION:With numerous stores and malls including more than 100 dealers\, Lincoln City has been the place to go on the Oregon Coast if you are interested in antiques and collectibles. To celebrate “antiquing\,” every February Lincoln City hosts Antique Week\, an eleven-day event. This year’s event runs February 11-20. Antique Week features city-wide antique store sales where you will discover hidden treasures and save on your purchases.
URL:https://ocean-odyssey.com/event/antique-week-2/
LOCATION:Lincoln City\, Lincoln City\, OR\, 97367\, United States
CATEGORIES:Festival
END:VEVENT
BEGIN:VEVENT
DTSTART;VALUE=DATE:20161111
DTEND;VALUE=DATE:20161114
DTSTAMP:20260421T094511
CREATED:20160212T191535Z
LAST-MODIFIED:20160212T191535Z
UID:253-1478822400-1479081599@ocean-odyssey.com
SUMMARY:Yachats Celtic Music Festival
DESCRIPTION:The Yachats Celtic Music Festival returns for its 16th year! Stay posted for a culturally stimulating program and tickets information.
URL:https://ocean-odyssey.com/event/yachats-celtic-music-festival/
LOCATION:Yachats Commons\, 441 Hwy 101\, Yachats\, OR\, 97498\, United States
CATEGORIES:Festival
END:VEVENT
BEGIN:VEVENT
DTSTART;VALUE=DATE:20161022
DTEND;VALUE=DATE:20161024
DTSTAMP:20260421T094511
CREATED:20160212T191156Z
LAST-MODIFIED:20160212T191156Z
UID:250-1477094400-1477267199@ocean-odyssey.com
SUMMARY:17th Annual Yachats Village Mushroom Festival
DESCRIPTION:Experience delectable wild forest mushroom cuisine\, culinary markets\, cooking demonstrations\, wine and beer tasting\, and live music. In addition\, you’re guaranteed a FUN time learning all about mushrooms\, the role of fungi in forest ecology\, how to grow your own culinary mushrooms\, and much more. We are honored to host a phenomenal team of educators who join this festival annually to provide informative mushroom talks\, guided walks\, workshops and wild mushrooms displays.
URL:https://ocean-odyssey.com/event/17th-annual-yachats-village-mushroom-festival/
LOCATION:Yachats Commons\, 441 Hwy 101\, Yachats\, OR\, 97498\, United States
CATEGORIES:Festival
END:VEVENT
BEGIN:VEVENT
DTSTART;TZID=America/Los_Angeles:20161001T110000
DTEND;TZID=America/Los_Angeles:20161001T180000
DTSTAMP:20260421T094511
CREATED:20160212T191013Z
LAST-MODIFIED:20160212T191013Z
UID:249-1475319600-1475344800@ocean-odyssey.com
SUMMARY:Artober Brewfest
DESCRIPTION:The Artober Brewfest – featuring Artisans\, Craft Beers\, and Culinary Craftsmen\, is a family-friendly celebration of the great bounty in Lincoln City.
URL:https://ocean-odyssey.com/event/artober-brewfest/
LOCATION:OR
CATEGORIES:Arts and Crafts,Festival
END:VEVENT
BEGIN:VEVENT
DTSTART;TZID=America/Los_Angeles:20161001T100000
DTEND;TZID=America/Los_Angeles:20161002T160000
DTSTAMP:20260421T094511
CREATED:20160212T190800Z
LAST-MODIFIED:20160212T190800Z
UID:248-1475316000-1475424000@ocean-odyssey.com
SUMMARY:Fall Kite Festival
DESCRIPTION:The Lincoln City Fall Kite Festival is held on the beach\, in the center of Lincoln City\, at the D-River Wayside from 10am-4pm on Saturday and Sunday. \nThe weekend festival will include kite flying demonstrations by experts\, free kids kitemaking\, running of the bols\, and some of the most colorful “big” kites in the world!
URL:https://ocean-odyssey.com/event/fall-kite-festival/
LOCATION:D-River Wayside State Park\, Lincoln City\, OR\, 97367\, United States
CATEGORIES:Festival
END:VEVENT
BEGIN:VEVENT
DTSTART;VALUE=DATE:20160924
DTEND;VALUE=DATE:20160925
DTSTAMP:20260421T094511
CREATED:20160205T233645Z
LAST-MODIFIED:20160205T233645Z
UID:199-1474675200-1474761599@ocean-odyssey.com
SUMMARY:Waldport's Cruzin' for Crab
DESCRIPTION:A car show extravaganza. Crafts and Food Vendors. Eat fresh crab and try your luck at drawings! See updated information closer to the event here.
URL:https://ocean-odyssey.com/event/waldports-cruzin-for-crab/
LOCATION:Waldport\, Waldport\, OR\, United States
CATEGORIES:Festival
END:VEVENT
BEGIN:VEVENT
DTSTART;TZID=America/Los_Angeles:20160903T100000
DTEND;TZID=America/Los_Angeles:20160903T180000
DTSTAMP:20260421T094511
CREATED:20160205T212918Z
LAST-MODIFIED:20160205T213144Z
UID:190-1472896800-1472925600@ocean-odyssey.com
SUMMARY:Cruise the Coast
DESCRIPTION:Lincoln City’s seven-mile long main street comes alive with car shows\, music and a cruise scene from late August until the middle of September. Put an extra bit of polish on that sweet ride and meet us in Lincoln City. Come for the shows\, and then stay for all the fun activities around town. \nClassic Car Shows\nSaturday\, August 27\, 2016\nOld School Classic Car Show\nLincoln City Cultural Center\nLive Music: To be announced.\n10am to 4pm\n540 NE Hwy 101 \nSaturday\, September 3\, 2016\nSurf City\nChinook Winds Casino Resort\nBeer Garden • Live Music • Food & Fun\n10am to 6pm \nSaturday\, September 10\, 2016\nCruisin’ the Bay\nThe Bay House Restaurant\nLive Music: To be announced.\n9am to 2pm\n5911 SW Hwy 101
URL:https://ocean-odyssey.com/event/cruise-the-coast-2/
LOCATION:Chinook Winds Casino Resort\, 1777 NW 44th St\, Lincoln City\, OR\, 97367\, United States
CATEGORIES:Festival
END:VEVENT
BEGIN:VEVENT
DTSTART;TZID=America/Los_Angeles:20160827T100000
DTEND;TZID=America/Los_Angeles:20160827T160000
DTSTAMP:20260421T094511
CREATED:20160205T212638Z
LAST-MODIFIED:20160205T213238Z
UID:188-1472292000-1472313600@ocean-odyssey.com
SUMMARY:Cruise the Coast
DESCRIPTION:Lincoln City’s seven-mile long main street comes alive with car shows\, music and a cruise scene from late August until the middle of September. Put an extra bit of polish on that sweet ride and meet us in Lincoln City. Come for the shows\, and then stay for all the fun activities around town. \nClassic Car Shows\nSaturday\, August 27\, 2016\nOld School Classic Car Show\nLincoln City Cultural Center\nLive Music: To be announced.\n10am to 4pm\n540 NE Hwy 101 \nSaturday\, September 3\, 2016\nSurf City\nChinook Winds Casino Resort\nBeer Garden • Live Music • Food & Fun\n10am to 6pm \nSaturday\, September 10\, 2016\nCruisin’ the Bay\nThe Bay House Restaurant\nLive Music: To be announced.\n9am to 2pm\n5911 SW Hwy 101
URL:https://ocean-odyssey.com/event/cruise-the-coast/
LOCATION:OR
CATEGORIES:Festival
END:VEVENT
BEGIN:VEVENT
DTSTART;VALUE=DATE:20160708
DTEND;VALUE=DATE:20160711
DTSTAMP:20260421T094511
CREATED:20160205T211050Z
LAST-MODIFIED:20160205T211106Z
UID:184-1467936000-1468195199@ocean-odyssey.com
SUMMARY:36th Annual Yachats Music Festival
DESCRIPTION:Don’t miss this best kept secret on the Oregon Coast! For the 36th year\, Yachats has the privilege of hosting internationally acclaimed artists of FOUR SEASONS. This magnificent music festival includes 3 days of cameo performances by 20 to 25 major classical artists. Individual concerts are set for 8 p.m. on Friday\, Saturday & Sunday\, and at 2 p.m. for a Sunday matinee. To purchase tickets online or for more information\, please visit the website. Beginning in June\, tickets will also be available at the Yachats Visitor Center and the Adobe Resort.
URL:https://ocean-odyssey.com/event/36th-annual-yachats-music-festival/
LOCATION:Yachats Community Presbyterian Church\, 360 W 7th St\, Yachats\, OR\, 97498\, United States
CATEGORIES:Festival
END:VEVENT
BEGIN:VEVENT
DTSTART;VALUE=DATE:20160704
DTEND;VALUE=DATE:20160705
DTSTAMP:20260421T094511
CREATED:20160205T204725Z
LAST-MODIFIED:20160205T204725Z
UID:178-1467590400-1467676799@ocean-odyssey.com
SUMMARY:4th of July Celebration
DESCRIPTION:Celebrate the 4th of July in Lincoln City with a spectacular fireworks display over Siletz Bay at dusk and a parade and family fun in Gleneden Beach! \nSchedule of Events \n\n8-11am: Pancake Breakfast (Gleneden Beach)\n9am-3pm: Craft Fair & Food Court (Gleneden Beach)\n1pm: Parade (Gleneden Beach)\nDusk: Fireworks over Siletz Bay (Lincoln City)
URL:https://ocean-odyssey.com/event/4th-of-july-celebration/
LOCATION:Licoln City\, Various Locations\, Lincoln City\, OR\, United States
CATEGORIES:Festival
END:VEVENT
BEGIN:VEVENT
DTSTART;TZID=America/Los_Angeles:20160703T170000
DTEND;TZID=America/Los_Angeles:20160703T210000
DTSTAMP:20260421T094511
CREATED:20160205T204511Z
LAST-MODIFIED:20160205T204511Z
UID:177-1467565200-1467579600@ocean-odyssey.com
SUMMARY:Fireworks in Waldport
DESCRIPTION:Enjoy a fabulous display of fireworks over Alsea Bay beginning at dusk. You’ll find plenty of sandy beach to enjoy the view. Park at Patterson State Park or park in Waldport to view the festivities from the Historic Alsea Bay Bridge Interpretive Center or along Keady Wayside. Arrive early and build a sand castle\, catch Dungeness crab in Alsea Bay\, search for sand dollars along miles of sandy beach\, toast marshmallows over a bonfire\, ride a green bike and then\, by all means enjoy the fireworks!
URL:https://ocean-odyssey.com/event/fireworks-in-waldport/
LOCATION:Alsea Bay\, Waldport\, OR\, United States
CATEGORIES:Festival
END:VEVENT
BEGIN:VEVENT
DTSTART;TZID=America/Los_Angeles:20160625T100000
DTEND;TZID=America/Los_Angeles:20160626T160000
DTSTAMP:20260421T094511
CREATED:20160205T202528Z
LAST-MODIFIED:20160205T202632Z
UID:170-1466848800-1466956800@ocean-odyssey.com
SUMMARY:Summer Kite Festival
DESCRIPTION:The Lincoln City Summer Kite Festival is held on the beach\, in the center of Lincoln City\, at the D-River Wayside from 10am-4pm on Saturday and Sunday. \nThe weekend festival will include kite flying demonstrations by experts\, free kids kitemaking\, running of the bols\, and some of the most colorful “big” kites in the world!
URL:https://ocean-odyssey.com/event/summer-kite-festival/
LOCATION:D-River Wayside State Park\, Lincoln City\, OR\, 97367\, United States
CATEGORIES:Festival
END:VEVENT
BEGIN:VEVENT
DTSTART;VALUE=DATE:20160610
DTEND;VALUE=DATE:20160613
DTSTAMP:20260421T094511
CREATED:20160205T203300Z
LAST-MODIFIED:20160205T203300Z
UID:173-1465516800-1465775999@ocean-odyssey.com
SUMMARY:Celtic Festival and Highland Games
DESCRIPTION:Organized by the Celtic Heritage Alliance\, the Newport Celtic Festival & Highland Games is one of many year-round events which support its ongoing mission to promote and preserve Celtic culture on the Oregon coast. \nEach summer\, visitors from all over the Pacific Northwest flock to Newport\, Oregon to join in this celebration of Celtic culture which spans the seven Celtic nations of Brittany\, Cornwall\, Galicia\, Ireland\, Isle of Man\, Scotland & Wales.
URL:https://ocean-odyssey.com/event/celtic-festival-and-highland-games/
LOCATION:Newport\, Various Locations\, Newport\, OR\, 97365\, United States
CATEGORIES:Festival
END:VEVENT
BEGIN:VEVENT
DTSTART;VALUE=DATE:20160507
DTEND;VALUE=DATE:20160509
DTSTAMP:20260421T094511
CREATED:20160201T231210Z
LAST-MODIFIED:20160201T231749Z
UID:161-1462579200-1462751999@ocean-odyssey.com
SUMMARY:Mother’s Day Glass Art Drop
DESCRIPTION:Occasionally the Lincoln City VCB places (we don’t actually drop the glass pieces\, we just call it that) extra pieces of glass art on the beaches for beachcombers to find in addition to our regular Finders Keepers offerings. Special drops can include a combination of glass floats\, sand dollars\, crabs or starfish.
URL:https://ocean-odyssey.com/event/mothers-day-glass-art-drop/
LOCATION:Licoln City\, Various Locations\, Lincoln City\, OR\, United States
CATEGORIES:Arts and Crafts,Festival
END:VEVENT
BEGIN:VEVENT
DTSTART;TZID=America/Los_Angeles:20160430T110000
DTEND;TZID=America/Los_Angeles:20160430T140000
DTSTAMP:20260421T094511
CREATED:20160201T212535Z
LAST-MODIFIED:20160201T212535Z
UID:157-1462014000-1462024800@ocean-odyssey.com
SUMMARY:Fish Taco Cook-off
DESCRIPTION:Join us for the 8th annual Fish Taco Cook-Off on Saturday\, April 30\, 2016 11am-2pm (or until samples are gone) at the Culinary Center in Lincoln City\, and discover who has the Best Fish Taco on the Oregon Coast! Admission is FREE\, with fish tacos available for $1.50. You get to vote for your favorite fish taco dish to determine the People’s Choice Award!
URL:https://ocean-odyssey.com/event/fish-taco-cook-off/
LOCATION:The Culinary Center\, 801 SW Hwy 101\, 4th Floor\, Lincoln City\, OR\, 97367\, United States
CATEGORIES:Festival
END:VEVENT
BEGIN:VEVENT
DTSTART;VALUE=DATE:20160422
DTEND;VALUE=DATE:20160425
DTSTAMP:20260421T094511
CREATED:20160201T211855Z
LAST-MODIFIED:20160201T232125Z
UID:155-1461283200-1461542399@ocean-odyssey.com
SUMMARY:Earth Day Glass Art Drop
DESCRIPTION:Occasionally the Lincoln City VCB places (we don’t actually drop the glass pieces\, we just call it that) extra pieces of glass art on the beaches for beachcombers to find in addition to our regular Finders Keepers offerings. Special drops can include a combination of glass floats\, sand dollars\, crabs or starfish.
URL:https://ocean-odyssey.com/event/earth-day-glass-art-drop/
LOCATION:Licoln City\, Various Locations\, Lincoln City\, OR\, United States
CATEGORIES:Arts and Crafts,Festival
END:VEVENT
BEGIN:VEVENT
DTSTART;TZID=America/Los_Angeles:20160326T100000
DTEND;TZID=America/Los_Angeles:20160326T150000
DTSTAMP:20260421T094511
CREATED:20160201T205744Z
LAST-MODIFIED:20160201T205744Z
UID:146-1458986400-1459004400@ocean-odyssey.com
SUMMARY:Annual Easter Egg Hunt
DESCRIPTION:Bring your children and join us for prizes and Easter Egg Baskets! All are welcome.
URL:https://ocean-odyssey.com/event/annual-easter-egg-hunt/
LOCATION:Yachats Community Presbyterian Church\, 360 W 7th St\, Yachats\, OR\, 97498\, United States
CATEGORIES:Festival
END:VEVENT
BEGIN:VEVENT
DTSTART;VALUE=DATE:20160319
DTEND;VALUE=DATE:20160328
DTSTAMP:20260421T094511
CREATED:20160201T203956Z
LAST-MODIFIED:20160205T233739Z
UID:140-1458345600-1459123199@ocean-odyssey.com
SUMMARY:Spring Break Glass Art Drop
DESCRIPTION:Occasionally the Lincoln City VCB places (we don’t actually drop the glass pieces\, we just call it that) extra pieces of glass art on the beaches for beachcombers to find in addition to our regular Finders Keepers offerings. Special drops can include a combination of glass floats\, sand dollars\, crabs or starfish.
URL:https://ocean-odyssey.com/event/spring-break-glass-art-drop/
LOCATION:Licoln City\, Various Locations\, Lincoln City\, OR\, United States
CATEGORIES:Arts and Crafts,Festival
END:VEVENT
BEGIN:VEVENT
DTSTART;TZID=America/Los_Angeles:20160225T100000
DTEND;TZID=America/Los_Angeles:20160228T210000
DTSTAMP:20260421T094511
CREATED:20160201T200211Z
LAST-MODIFIED:20160201T200211Z
UID:116-1456394400-1456693200@ocean-odyssey.com
SUMMARY:Newport Seafood and Wine Festival
DESCRIPTION:It wouldn’t be winter on the coast without the Newport Seafood & Wine Festival. Showcasing over 150 premier Northwest wines\, culinary professionals and regional artisans\, the Newport Seafood & Wine Festival draws nearly 25\,000 visitors each year.
URL:https://ocean-odyssey.com/event/newport-seafood-and-wine-festival/
LOCATION:Newport\, Various Locations\, Newport\, OR\, 97365\, United States
CATEGORIES:Festival
END:VEVENT
BEGIN:VEVENT
DTSTART;TZID=America/Los_Angeles:20160213T100000
DTEND;TZID=America/Los_Angeles:20160213T160000
DTSTAMP:20260421T094511
CREATED:20160201T201052Z
LAST-MODIFIED:20160201T204404Z
UID:124-1455357600-1455379200@ocean-odyssey.com
SUMMARY:Fossil Fest
DESCRIPTION:Do you like agates?  Have a fossil from the beach you can’t identify?  Then we have the event for you!  Join us for our annual Fossil Fest event where you will see special displays\, can identify your beach finds and swap stories with other rock hounds!  Special lectures by Guy “Oregon Fossil Guy” DiTorrice and Dr. William Orr.
URL:https://ocean-odyssey.com/event/fossil-fest/
LOCATION:Hatfield Marine Science Center\, 2030 SE Marine Science Dr Newport\, Newport\, OR\, 97365\, United States
CATEGORIES:Festival
END:VEVENT
BEGIN:VEVENT
DTSTART;VALUE=DATE:20160213
DTEND;VALUE=DATE:20160215
DTSTAMP:20260421T094511
CREATED:20160201T200757Z
LAST-MODIFIED:20160201T232026Z
UID:121-1455321600-1455494399@ocean-odyssey.com
SUMMARY:Valentine's Day Special Glass Art Drop
DESCRIPTION:Occasionally the Lincoln City VCB places (we don’t actually drop the glass pieces\, we just call it that) extra pieces of glass art on the beaches for beachcombers to find in addition to our regular Finders Keepers offerings. Special drops can include a combination of glass floats\, sand dollars\, crabs or starfish.
URL:https://ocean-odyssey.com/event/valentines-day-special-glass-art-drop/
LOCATION:Licoln City\, Various Locations\, Lincoln City\, OR\, United States
CATEGORIES:Arts and Crafts,Festival
END:VEVENT
BEGIN:VEVENT
DTSTART;VALUE=DATE:20160206
DTEND;VALUE=DATE:20160216
DTSTAMP:20260421T094511
CREATED:20160201T200545Z
LAST-MODIFIED:20160201T231954Z
UID:119-1454716800-1455580799@ocean-odyssey.com
SUMMARY:Special Glass Art Drop
DESCRIPTION:Occasionally the Lincoln City VCB places (we don’t actually drop the glass pieces\, we just call it that) extra pieces of glass art on the beaches for beachcombers to find in addition to our regular Finders Keepers offerings. Special drops can include a combination of glass floats\, sand dollars\, crabs or starfish.
URL:https://ocean-odyssey.com/event/special-glass-art-drop/
LOCATION:Licoln City\, Various Locations\, Lincoln City\, OR\, United States
CATEGORIES:Arts and Crafts,Festival
END:VEVENT
BEGIN:VEVENT
DTSTART;VALUE=DATE:20160205
DTEND;VALUE=DATE:20160216
DTSTAMP:20260421T094511
CREATED:20160201T195006Z
LAST-MODIFIED:20160201T232004Z
UID:108-1454630400-1455580799@ocean-odyssey.com
SUMMARY:Antique Week
DESCRIPTION:With numerous stores and malls including more than 100 dealers\, Lincoln City has been the place to go on the Oregon Coast if you are interested in antiques and collectibles. To celebrate “antiquing\,” every February Lincoln City hosts Antique Week\, an eleven-day event. This year’s event runs February 5-15. Antique Week features city-wide antique store sales where you will discover hidden treasures and save on your purchases.
URL:https://ocean-odyssey.com/event/antique-week/
LOCATION:Licoln City\, Various Locations\, Lincoln City\, OR\, United States
CATEGORIES:Arts and Crafts,Festival
END:VEVENT
END:VCALENDAR